BEGIN:VCALENDAR
VERSION:2.0
PRODID:-//Plone.org//NONSGML plone.app.event//EN
X-WR-TIMEZONE:Europe/Madrid
BEGIN:VEVENT
SUMMARY:Los caminos del agua 1: hacia el Molí de Cervià
DTSTART;TZID=Europe/Madrid;VALUE=DATE-TIME:20260613T100000
DTEND;TZID=Europe/Madrid;VALUE=DATE-TIME:20260613T120000
DTSTAMP;VALUE=DATE-TIME:20260423T155724Z
UID:3a13fe7b601947689f7099f15a8d5115@www.paeria.cat
CATEGORIES:Itinerarios y visitas
CREATED;VALUE=DATE-TIME:20260423T080731Z
DESCRIPTION:Recorrido interpretativo por el parque de la Mitjana hasta el 
 Molí de Cervià\, descubriendo el entorno\, los cursos de agua y su histo
 ria. Redescubriremos el espacio natural de la Mitjana\, la huerta de Greny
 ana y los regadíos tradicionales\, así como el antiguo molino harinero. 
 El Museu de l'Aigua y el Ateneu Popular de Ponent recuperan el ¿Coneixes 
 la teva ciutat? con un nuevo programa de itinerarios culturales\, en este 
 caso en torno al patrimonio del agua en Lleida.
LAST-MODIFIED;VALUE=DATE-TIME:20260423T080753Z
URL:https://www.paeria.cat/es/actualidad/agenda/los-caminos-del-agua-1-hac
 ia-el-moli-de-cervia
END:VEVENT
BEGIN:VTIMEZONE
TZID:Europe/Madrid
X-LIC-LOCATION:Europe/Madrid
BEGIN:DAYLIGHT
DTSTART;VALUE=DATE-TIME:20260329T030000
TZNAME:CEST
TZOFFSETFROM:+0100
TZOFFSETTO:+0200
END:DAYLIGHT
END:VTIMEZONE
END:VCALENDAR
