BEGIN:VCALENDAR
VERSION:2.0
PRODID:-//Plone.org//NONSGML plone.app.event//EN
X-WR-TIMEZONE:Europe/Madrid
BEGIN:VEVENT
SUMMARY:LOS VESTIGIOS DE LA GUERRA CIVIL EN EL TURÓ DE LA SEU VELLA
DTSTART;TZID=Europe/Madrid;VALUE=DATE-TIME:20220319T183000
DTSTAMP;VALUE=DATE-TIME:20260422T134713Z
UID:d7a12dc5428e40d592f6b19639bb5c8a@www.paeria.cat
CATEGORIES:Ciudadanía,Itinerarios y visitas,Todos los públicos
CREATED;VALUE=DATE-TIME:20221220T123332Z
DESCRIPTION:Itinerarios para la recuperación de la Memoria Democrática d
 e Lleida
LAST-MODIFIED;VALUE=DATE-TIME:20221223T121015Z
URL:https://www.paeria.cat/es/actualidad/agenda/los-vestigios-de-la-guerra
 -civil-en-el-turo-de-la-seu-vella
END:VEVENT
BEGIN:VTIMEZONE
TZID:Europe/Madrid
X-LIC-LOCATION:Europe/Madrid
BEGIN:STANDARD
DTSTART;VALUE=DATE-TIME:20211031T020000
TZNAME:CET
TZOFFSETFROM:+0200
TZOFFSETTO:+0100
END:STANDARD
END:VTIMEZONE
END:VCALENDAR
