BEGIN:VCALENDAR
VERSION:2.0
PRODID:-//Plone.org//NONSGML plone.app.event//EN
X-WR-TIMEZONE:Europe/Madrid
BEGIN:VEVENT
SUMMARY:MANCARENA DELACRÚ. LA VOZ IZQUIERDA DE LA COPLA
DTSTART;TZID=Europe/Madrid;VALUE=DATE-TIME:20260308T190000
DTEND;TZID=Europe/Madrid;VALUE=DATE-TIME:20260308T210000
DTSTAMP;VALUE=DATE-TIME:20260425T053834Z
UID:309f81ddea1541e194665378f9f1e3a4@www.paeria.cat
CATEGORIES:Arte,Teatro,Todos los públicos,Cultura
CREATED;VALUE=DATE-TIME:20260305T105627Z
DESCRIPTION:El Departamento de Derechos Civiles presenta un espectáculo d
 e música y textos que revisita su memoria histórica desde una mirada cr
 ítica y artística. Mancarena Delacrú. La voz izquierda de la copla es u
 na propuesta escénica creada por Jaume Belló\, con el acompañamiento mu
 sical de Pancho Marrodán\, la voz poética de Núria Pujol y la participa
 ción de Sílvia Solé\, de la Compañía La Máxima.
LAST-MODIFIED;VALUE=DATE-TIME:20260305T105641Z
URL:https://www.paeria.cat/es/actualidad/agenda/mancarena-delacru-la-voz-i
 zquierda-de-la-copla-1
END:VEVENT
BEGIN:VTIMEZONE
TZID:Europe/Madrid
X-LIC-LOCATION:Europe/Madrid
BEGIN:STANDARD
DTSTART;VALUE=DATE-TIME:20251026T020000
TZNAME:CET
TZOFFSETFROM:+0200
TZOFFSETTO:+0100
END:STANDARD
END:VTIMEZONE
END:VCALENDAR
