BEGIN:VCALENDAR
VERSION:2.0
PRODID:-//Plone.org//NONSGML plone.app.event//EN
X-WR-TIMEZONE:Europe/Madrid
BEGIN:VEVENT
SUMMARY:MANCARENA DELACRÚ. LA VOZ IZQUIERDA DE LA COPLA.
DTSTART;TZID=Europe/Madrid;VALUE=DATE-TIME:20250708T190000
DTSTAMP;VALUE=DATE-TIME:20260420T160533Z
UID:887a80916ea24b3d88524a5010830b07@www.paeria.cat
CATEGORIES:Música
CREATED;VALUE=DATE-TIME:20250626T091550Z
DESCRIPTION:Espectáculo de música y texto.
LAST-MODIFIED;VALUE=DATE-TIME:20250707T090956Z
URL:https://www.paeria.cat/es/actualidad/agenda/mancarena-delacru-la-voz-i
 zquierda-de-la-copla
END:VEVENT
BEGIN:VTIMEZONE
TZID:Europe/Madrid
X-LIC-LOCATION:Europe/Madrid
BEGIN:DAYLIGHT
DTSTART;VALUE=DATE-TIME:20250330T030000
TZNAME:CEST
TZOFFSETFROM:+0100
TZOFFSETTO:+0200
END:DAYLIGHT
END:VTIMEZONE
END:VCALENDAR
