BEGIN:VCALENDAR
VERSION:2.0
PRODID:-//Plone.org//NONSGML plone.app.event//EN
X-WR-TIMEZONE:Europe/Madrid
BEGIN:VEVENT
SUMMARY:ENTRADAS AGOTADAS. Mary Lara Díez Quintanilla i Sala Flyhard
DTSTART;TZID=Europe/Madrid;VALUE=DATE-TIME:20251025T180000
DTEND;TZID=Europe/Madrid;VALUE=DATE-TIME:20251025T193000
DTSTAMP;VALUE=DATE-TIME:20260423T120724Z
UID:719c4f0857bb4ddc9d0cbe61c1632af6@www.paeria.cat
CREATED;VALUE=DATE-TIME:20250707T134936Z
LAST-MODIFIED;VALUE=DATE-TIME:20251023T123051Z
URL:https://www.paeria.cat/es/actualidad/agenda/mary-lara-diez-quintanilla
 -i-sala-flyhard
END:VEVENT
BEGIN:VTIMEZONE
TZID:Europe/Madrid
X-LIC-LOCATION:Europe/Madrid
BEGIN:DAYLIGHT
DTSTART;VALUE=DATE-TIME:20250330T030000
TZNAME:CEST
TZOFFSETFROM:+0100
TZOFFSETTO:+0200
END:DAYLIGHT
END:VTIMEZONE
END:VCALENDAR
