BEGIN:VCALENDAR
VERSION:2.0
PRODID:-//Plone.org//NONSGML plone.app.event//EN
X-WR-TIMEZONE:Europe/Madrid
BEGIN:VEVENT
SUMMARY:Matinales de cine- Ellas hablan
DTSTART;TZID=Europe/Madrid;VALUE=DATE-TIME:20241023T103000
DTSTAMP;VALUE=DATE-TIME:20260423T224519Z
UID:3dadec6e1b1b41f1a22c4f0065d5a3e3@www.paeria.cat
CATEGORIES:Audiovisuales,Cine y vídeo,Cultura
CREATED;VALUE=DATE-TIME:20240729T144650Z
LAST-MODIFIED;VALUE=DATE-TIME:20240729T144655Z
URL:https://www.paeria.cat/es/actualidad/agenda/matinales-de-cine-ellas-ha
 blan
END:VEVENT
BEGIN:VTIMEZONE
TZID:Europe/Madrid
X-LIC-LOCATION:Europe/Madrid
BEGIN:DAYLIGHT
DTSTART;VALUE=DATE-TIME:20240331T030000
TZNAME:CEST
TZOFFSETFROM:+0100
TZOFFSETTO:+0200
END:DAYLIGHT
END:VTIMEZONE
END:VCALENDAR
