BEGIN:VCALENDAR
VERSION:2.0
PRODID:-//Plone.org//NONSGML plone.app.event//EN
X-WR-TIMEZONE:Europe/Madrid
BEGIN:VEVENT
SUMMARY:Mercado del Barris Nord
DTSTART;TZID=Europe/Madrid;VALUE=DATE-TIME:20261031T090000
DTEND;TZID=Europe/Madrid;VALUE=DATE-TIME:20261031T140000
DTSTAMP;VALUE=DATE-TIME:20260419T232624Z
UID:7807bfcb2e4e41d487e6b1228abaed7b@www.paeria.cat
CATEGORIES:Ferias\, muestras y mercados,Público
CREATED;VALUE=DATE-TIME:20221212T091222Z
DESCRIPTION:En este mercado se puede encontrar fruta y verdura\, ropa\, ca
 lzado\, marroquinería\, bisutería\, menaje del hogar\, menaje de la pers
 ona y otros.
LAST-MODIFIED;VALUE=DATE-TIME:20260414T110204Z
URL:https://www.paeria.cat/es/actualidad/agenda/mercado-del-barris-nord/20
 26-10-31
END:VEVENT
BEGIN:VTIMEZONE
TZID:Europe/Madrid
X-LIC-LOCATION:Europe/Madrid
BEGIN:STANDARD
DTSTART;VALUE=DATE-TIME:20261025T020000
TZNAME:CET
TZOFFSETFROM:+0200
TZOFFSETTO:+0100
END:STANDARD
END:VTIMEZONE
END:VCALENDAR
