BEGIN:VCALENDAR
VERSION:2.0
PRODID:-//Plone.org//NONSGML plone.app.event//EN
X-WR-TIMEZONE:Europe/Madrid
BEGIN:VEVENT
SUMMARY:Mesa Redonda- Herramientas de alfabetización en la edad media: al
  alcance de pocos\, pero deseadas por mucho
DTSTART;TZID=Europe/Madrid;VALUE=DATE-TIME:20241114T180000
DTSTAMP;VALUE=DATE-TIME:20260422T135905Z
UID:1a33878512644d12a70b58fa4c8386f2@www.paeria.cat
CATEGORIES:Cultura
CREATED;VALUE=DATE-TIME:20241108T091218Z
LAST-MODIFIED;VALUE=DATE-TIME:20250516T100326Z
URL:https://www.paeria.cat/es/actualidad/agenda/mesa-redonda-herramientas-
 de-alfabetizacion-en-la-edad-media-al-alcance-de-pocos-pero-deseadas-por-m
 ucho
END:VEVENT
BEGIN:VTIMEZONE
TZID:Europe/Madrid
X-LIC-LOCATION:Europe/Madrid
BEGIN:STANDARD
DTSTART;VALUE=DATE-TIME:20241027T020000
TZNAME:CET
TZOFFSETFROM:+0200
TZOFFSETTO:+0100
END:STANDARD
END:VTIMEZONE
END:VCALENDAR
