BEGIN:VCALENDAR
VERSION:2.0
PRODID:-//Plone.org//NONSGML plone.app.event//EN
X-WR-TIMEZONE:Europe/Madrid
BEGIN:VEVENT
SUMMARY:Mesa redonda y presentación del libro- Allà d'allà. Alfabet inc
 omplert de la Franja de Ponent
DTSTART;TZID=Europe/Madrid;VALUE=DATE-TIME:20240413T120000
DTSTAMP;VALUE=DATE-TIME:20260422T100949Z
UID:4d3ae285d7954ab9ad8ab632f4bd3f30@www.paeria.cat
CATEGORIES:Libros y literatura,Cultura
CREATED;VALUE=DATE-TIME:20240409T105457Z
LAST-MODIFIED;VALUE=DATE-TIME:20240409T105504Z
URL:https://www.paeria.cat/es/actualidad/agenda/mesa-redonda-y-presentacio
 n-del-libro-alla-dalla-alfabet-incomplert-de-la-franja-de-ponent
END:VEVENT
BEGIN:VTIMEZONE
TZID:Europe/Madrid
X-LIC-LOCATION:Europe/Madrid
BEGIN:DAYLIGHT
DTSTART;VALUE=DATE-TIME:20240331T030000
TZNAME:CEST
TZOFFSETFROM:+0100
TZOFFSETTO:+0200
END:DAYLIGHT
END:VTIMEZONE
END:VCALENDAR
