BEGIN:VCALENDAR
VERSION:2.0
PRODID:-//Plone.org//NONSGML plone.app.event//EN
X-WR-TIMEZONE:Europe/Madrid
BEGIN:VEVENT
SUMMARY:Micro abierto Rodautores Lleida
DTSTART;TZID=Europe/Madrid;VALUE=DATE-TIME:20241127T200000
DTSTAMP;VALUE=DATE-TIME:20260422T144736Z
UID:3faa7f0a35fe432fb48fe6d4ddbf4b47@www.paeria.cat
CATEGORIES:Música,Cultura
CREATED;VALUE=DATE-TIME:20240913T064841Z
LAST-MODIFIED;VALUE=DATE-TIME:20240913T064902Z
URL:https://www.paeria.cat/es/actualidad/agenda/micro-abierto-rodautores-l
 leida-1/2024-11-27
END:VEVENT
BEGIN:VTIMEZONE
TZID:Europe/Madrid
X-LIC-LOCATION:Europe/Madrid
BEGIN:STANDARD
DTSTART;VALUE=DATE-TIME:20241027T020000
TZNAME:CET
TZOFFSETFROM:+0200
TZOFFSETTO:+0100
END:STANDARD
END:VTIMEZONE
END:VCALENDAR
