BEGIN:VCALENDAR
VERSION:2.0
PRODID:-//Plone.org//NONSGML plone.app.event//EN
X-WR-TIMEZONE:Europe/Madrid
BEGIN:VEVENT
SUMMARY:Mirada femenina en un campo de refugiados saharauis
DTSTART;TZID=Europe/Madrid;VALUE=DATE-TIME:20250312T190000
DTEND;TZID=Europe/Madrid;VALUE=DATE-TIME:20250312T200000
DTSTAMP;VALUE=DATE-TIME:20260422T185711Z
UID:6f47a8053f6b4e288fbb908124bcf431@www.paeria.cat
CATEGORIES:Mujer,Ciudadanía
CREATED;VALUE=DATE-TIME:20250311T083216Z
DESCRIPTION:Con motivo del 8 de marzo\, Día Internacional de la Mujer\, l
 a entidad Lleida por los Refugiados organiza una actividad que nos invita 
 a reflexionar sobre la situación de las mujeres en los campos de refugiad
 os saharauis.
LAST-MODIFIED;VALUE=DATE-TIME:20250514T114738Z
URL:https://www.paeria.cat/es/actualidad/agenda/mirada-femenina-en-un-camp
 o-de-refugiados-saharauis
END:VEVENT
BEGIN:VTIMEZONE
TZID:Europe/Madrid
X-LIC-LOCATION:Europe/Madrid
BEGIN:STANDARD
DTSTART;VALUE=DATE-TIME:20241027T020000
TZNAME:CET
TZOFFSETFROM:+0200
TZOFFSETTO:+0100
END:STANDARD
END:VTIMEZONE
END:VCALENDAR
