BEGIN:VCALENDAR
VERSION:2.0
PRODID:-//Plone.org//NONSGML plone.app.event//EN
X-WR-TIMEZONE:Europe/Madrid
BEGIN:VEVENT
SUMMARY:Noche de Luna llena en el claustro de la Seu Vella
DTSTART;TZID=Europe/Madrid;VALUE=DATE-TIME:20231028T210000
DTEND;TZID=Europe/Madrid;VALUE=DATE-TIME:20231028T235500
DTSTAMP;VALUE=DATE-TIME:20260422T215000Z
UID:b451752857fb4f57a3b63fb42413ac2d@www.paeria.cat
CREATED;VALUE=DATE-TIME:20230928T104624Z
DESCRIPTION:Apertura del claustro de la Seu Vella con motivo de la noche d
 e luna llena con una actividad en torno a la poesía\, teatro\, música\, 
 cine\, etc.\nEn esta ocasión\, todo el público asistente podrá particip
 ar del concierto de fado "SAUDADES" a cargo de Andrea Imaginario\, enmarca
 do dentro de la programación del Festival Internacional de Fado de Catalu
 ña 2023.
LAST-MODIFIED;VALUE=DATE-TIME:20231023T070407Z
URL:https://www.paeria.cat/es/actualidad/agenda/noche-de-lune-llena-en-el-
 claustro-de-la-seu-vella
END:VEVENT
BEGIN:VTIMEZONE
TZID:Europe/Madrid
X-LIC-LOCATION:Europe/Madrid
BEGIN:DAYLIGHT
DTSTART;VALUE=DATE-TIME:20230326T030000
TZNAME:CEST
TZOFFSETFROM:+0100
TZOFFSETTO:+0200
END:DAYLIGHT
END:VTIMEZONE
END:VCALENDAR
