BEGIN:VCALENDAR
VERSION:2.0
PRODID:-//Plone.org//NONSGML plone.app.event//EN
X-WR-TIMEZONE:Europe/Madrid
BEGIN:VEVENT
SUMMARY:Noche Europea de la Investigación
DTSTART;TZID=Europe/Madrid;VALUE=DATE-TIME:20240920T170000
DTEND;TZID=Europe/Madrid;VALUE=DATE-TIME:20240920T230000
DTSTAMP;VALUE=DATE-TIME:20260420T002743Z
UID:cf0d744435d34a4786ba27fe22368158@www.paeria.cat
CATEGORIES:Días señalados,Ciencias y tecnologías,Talleres y cursos,Todo
 s los públicos
CREATED;VALUE=DATE-TIME:20240716T101443Z
DESCRIPTION:Actividades\, talleres y charlas para acercar la investigació
 n y sus protagonistas al público de todas las edades y dar a conocer la i
 nvestigación y la innovación de forma llana y divertida.  Por eso los in
 vestigadores e investigadoras acercarán de forma lúdica su trabajo\, los
  beneficios que conlleva para la sociedad y su repercusión en la vida cot
 idiana.  En Lleida se harán visitas y talleres a centros de investigació
 n de la UdL y otras instituciones.
LAST-MODIFIED;VALUE=DATE-TIME:20250514T110926Z
URL:https://www.paeria.cat/es/actualidad/agenda/noche-europea-de-la-invest
 igacion
END:VEVENT
BEGIN:VTIMEZONE
TZID:Europe/Madrid
X-LIC-LOCATION:Europe/Madrid
BEGIN:DAYLIGHT
DTSTART;VALUE=DATE-TIME:20240331T030000
TZNAME:CEST
TZOFFSETFROM:+0100
TZOFFSETTO:+0200
END:DAYLIGHT
END:VTIMEZONE
END:VCALENDAR
