BEGIN:VCALENDAR
VERSION:2.0
PRODID:-//Plone.org//NONSGML plone.app.event//EN
X-WR-TIMEZONE:Europe/Madrid
BEGIN:VEVENT
SUMMARY:NUEVA FUNCIÓN! La muda de Marina Guiu
DTSTART;TZID=Europe/Madrid;VALUE=DATE-TIME:20240112T200000
DTEND;TZID=Europe/Madrid;VALUE=DATE-TIME:20240112T210000
DTSTAMP;VALUE=DATE-TIME:20260422T133842Z
UID:cdbe3e4255f84ecea066a8506ca30ab7@www.paeria.cat
CATEGORIES:Cultura
CREATED;VALUE=DATE-TIME:20231229T121418Z
LAST-MODIFIED;VALUE=DATE-TIME:20251105T073100Z
URL:https://www.paeria.cat/es/actualidad/agenda/nueva-funcion-la-muda-de-m
 arina-guiu
END:VEVENT
BEGIN:VTIMEZONE
TZID:Europe/Madrid
X-LIC-LOCATION:Europe/Madrid
BEGIN:STANDARD
DTSTART;VALUE=DATE-TIME:20231029T020000
TZNAME:CET
TZOFFSETFROM:+0200
TZOFFSETTO:+0100
END:STANDARD
END:VTIMEZONE
END:VCALENDAR
