BEGIN:VCALENDAR
VERSION:2.0
PRODID:-//Plone.org//NONSGML plone.app.event//EN
X-WR-TIMEZONE:Europe/Madrid
BEGIN:VEVENT
SUMMARY:Paisajes lejanos\, canciones cercanas. Clausura XIX Festival Musiq
 uem Lleida
DTSTART;TZID=Europe/Madrid;VALUE=DATE-TIME:20241006T190000
DTEND;TZID=Europe/Madrid;VALUE=DATE-TIME:20241006T203000
DTSTAMP;VALUE=DATE-TIME:20260423T023503Z
UID:5bb3efdbbef84ef6a4eb48d52e5935cc@www.paeria.cat
CATEGORIES:Cultura,Música,Público
CREATED;VALUE=DATE-TIME:20240708T104503Z
LAST-MODIFIED;VALUE=DATE-TIME:20240708T104609Z
URL:https://www.paeria.cat/es/actualidad/agenda/paisajes-lejanos-canciones
 -cercanas-clausura-xix-festival-musiquem-lleida
END:VEVENT
BEGIN:VTIMEZONE
TZID:Europe/Madrid
X-LIC-LOCATION:Europe/Madrid
BEGIN:DAYLIGHT
DTSTART;VALUE=DATE-TIME:20240331T030000
TZNAME:CEST
TZOFFSETFROM:+0100
TZOFFSETTO:+0200
END:DAYLIGHT
END:VTIMEZONE
END:VCALENDAR
