BEGIN:VCALENDAR
VERSION:2.0
PRODID:-//Plone.org//NONSGML plone.app.event//EN
X-WR-TIMEZONE:Europe/Madrid
BEGIN:VEVENT
SUMMARY:Partido de fútbol solidario del Lleida Esportiu\, en beneficio de
  Lleida pels Refugiats
DTSTART;TZID=Europe/Madrid;VALUE=DATE-TIME:20240114T170000
DTEND;TZID=Europe/Madrid;VALUE=DATE-TIME:20240114T183000
DTSTAMP;VALUE=DATE-TIME:20260423T073630Z
UID:0ff5743195a84deabfab9decffdc41c9@www.paeria.cat
CATEGORIES:Ciudadanía,Deportes
CREATED;VALUE=DATE-TIME:20240112T122029Z
DESCRIPTION:El día 14 de enero a las 17:00h disfruta del partido entre el
  Lleida Esportiu y el Club de Fútbol La Nucía\, y colabora con Lleida po
 r los Refugiados con la donación de productos médicos\, higiénicos y/o 
 alimentarios. ¡Entrada gratuita llevando una botella de aceite de oliva d
 e 1 litro! Además\, en la puerta 1 encontrará un stand con camisetas\, b
 olsas chapas y libros de la entidad Lleida para los refugiados!
LAST-MODIFIED;VALUE=DATE-TIME:20250514T115404Z
URL:https://www.paeria.cat/es/actualidad/agenda/partido-de-futbol-solidari
 o-del-lleida-esportiu-en-beneficio-de-lleida-pels-refugiats
END:VEVENT
BEGIN:VTIMEZONE
TZID:Europe/Madrid
X-LIC-LOCATION:Europe/Madrid
BEGIN:STANDARD
DTSTART;VALUE=DATE-TIME:20231029T020000
TZNAME:CET
TZOFFSETFROM:+0200
TZOFFSETTO:+0100
END:STANDARD
END:VTIMEZONE
END:VCALENDAR
