BEGIN:VCALENDAR
VERSION:2.0
PRODID:-//Plone.org//NONSGML plone.app.event//EN
X-WR-TIMEZONE:Europe/Madrid
BEGIN:VEVENT
SUMMARY:Pedalada de contes al Parc de la Mitjana\, con Nopatiskos Teatre
DTSTART;TZID=Europe/Madrid;VALUE=DATE-TIME:20241020T110000
DTEND;TZID=Europe/Madrid;VALUE=DATE-TIME:20241020T123000
DTSTAMP;VALUE=DATE-TIME:20260423T072909Z
UID:54cbe33490ab45b9bff2fd0d4cccefd2@www.paeria.cat
CATEGORIES:Libros y literatura,Cultura,Infantil
CREATED;VALUE=DATE-TIME:20240919T104140Z
DESCRIPTION:¡Ven a disfrutar del Parc de la Mitjana de una forma diferent
 e! Haremos un pequeño recorrido en bici deteniéndonos en diferentes espa
 cios para escuchar cuentos sobre la naturaleza.
LAST-MODIFIED;VALUE=DATE-TIME:20250514T064559Z
URL:https://www.paeria.cat/es/actualidad/agenda/pedalada-de-contes-al-parc
 -de-la-mitjana-con-nopatiskos-teatre
END:VEVENT
BEGIN:VTIMEZONE
TZID:Europe/Madrid
X-LIC-LOCATION:Europe/Madrid
BEGIN:DAYLIGHT
DTSTART;VALUE=DATE-TIME:20240331T030000
TZNAME:CEST
TZOFFSETFROM:+0100
TZOFFSETTO:+0200
END:DAYLIGHT
END:VTIMEZONE
END:VCALENDAR
