BEGIN:VCALENDAR
VERSION:2.0
PRODID:-//Plone.org//NONSGML plone.app.event//EN
X-WR-TIMEZONE:Europe/Madrid
BEGIN:VEVENT
SUMMARY:Philina Zhang. Ganadora del III Concurso Ricard Viñes Kids and Yo
 uth 2022
DTSTART;TZID=Europe/Madrid;VALUE=DATE-TIME:20230720T213000
DTEND;TZID=Europe/Madrid;VALUE=DATE-TIME:20230720T223000
DTSTAMP;VALUE=DATE-TIME:20260422T190450Z
UID:9a0d1f9760b640ab9a3f73a164aa2ea0@www.paeria.cat
CATEGORIES:Público,Cultura,Música
CREATED;VALUE=DATE-TIME:20230614T122933Z
DESCRIPTION:Recital de piano
LAST-MODIFIED;VALUE=DATE-TIME:20251105T073815Z
URL:https://www.paeria.cat/es/actualidad/agenda/philina-zhang-ganadora-del
 -iii-concurso-ricard-vines-kids-and-youth-2022
END:VEVENT
BEGIN:VTIMEZONE
TZID:Europe/Madrid
X-LIC-LOCATION:Europe/Madrid
BEGIN:DAYLIGHT
DTSTART;VALUE=DATE-TIME:20230326T030000
TZNAME:CEST
TZOFFSETFROM:+0100
TZOFFSETTO:+0200
END:DAYLIGHT
END:VTIMEZONE
END:VCALENDAR
