BEGIN:VCALENDAR
VERSION:2.0
PRODID:-//Plone.org//NONSGML plone.app.event//EN
X-WR-TIMEZONE:Europe/Madrid
BEGIN:VEVENT
SUMMARY:Poesía y música contra la discriminación racial
DTSTART;TZID=Europe/Madrid;VALUE=DATE-TIME:20240321T183000
DTSTAMP;VALUE=DATE-TIME:20260423T022849Z
UID:35570fccaff049e58b196ebbfd6bac5b@www.paeria.cat
CATEGORIES:Libros y literatura,Cultura,Música
CREATED;VALUE=DATE-TIME:20240318T180757Z
LAST-MODIFIED;VALUE=DATE-TIME:20250514T132243Z
URL:https://www.paeria.cat/es/actualidad/agenda/poesia-y-musica-contra-la-
 discriminacion-racial
END:VEVENT
BEGIN:VTIMEZONE
TZID:Europe/Madrid
X-LIC-LOCATION:Europe/Madrid
BEGIN:STANDARD
DTSTART;VALUE=DATE-TIME:20231029T020000
TZNAME:CET
TZOFFSETFROM:+0200
TZOFFSETTO:+0100
END:STANDARD
END:VTIMEZONE
END:VCALENDAR
