BEGIN:VCALENDAR
VERSION:2.0
PRODID:-//Plone.org//NONSGML plone.app.event//EN
X-WR-TIMEZONE:Europe/Madrid
BEGIN:VEVENT
SUMMARY:"Porgy and Bess" de Gershwin\, con Marco Mezquida. Orquesta Sinfó
 nica del Vallés
DTSTART;TZID=Europe/Madrid;VALUE=DATE-TIME:20240602T190000
DTEND;TZID=Europe/Madrid;VALUE=DATE-TIME:20240602T213000
DTSTAMP;VALUE=DATE-TIME:20260422T184936Z
UID:f9694bf7ba2847a0b689fd75ee5ac193@www.paeria.cat
CATEGORIES:Cultura,Público,Música
CREATED;VALUE=DATE-TIME:20240201T122716Z
DESCRIPTION:Marco Mezquida Trío: Marco Mezquida\, piano. David Xirgu\, ba
 tería. Marko Lohikari\, contrabajo. Orquesta Sinfónica del Vallès. Víc
 tor Pablo Pérez\, director
LAST-MODIFIED;VALUE=DATE-TIME:20260415T085847Z
URL:https://www.paeria.cat/es/actualidad/agenda/porgy-and-bess-de-gershwin
 -con-marco-mezquida-orquesta-sinfonica-del-vallpes
END:VEVENT
BEGIN:VTIMEZONE
TZID:Europe/Madrid
X-LIC-LOCATION:Europe/Madrid
BEGIN:DAYLIGHT
DTSTART;VALUE=DATE-TIME:20240331T030000
TZNAME:CEST
TZOFFSETFROM:+0100
TZOFFSETTO:+0200
END:DAYLIGHT
END:VTIMEZONE
END:VCALENDAR
