BEGIN:VCALENDAR
VERSION:2.0
PRODID:-//Plone.org//NONSGML plone.app.event//EN
X-WR-TIMEZONE:Europe/Madrid
BEGIN:VEVENT
SUMMARY:Preparemos el eclipse
DTSTART;TZID=Europe/Madrid;VALUE=DATE-TIME:20260613T103000
DTEND;TZID=Europe/Madrid;VALUE=DATE-TIME:20260613T123000
DTSTAMP;VALUE=DATE-TIME:20260423T192706Z
UID:f71e8061931f41d48ed45075867abce6@www.paeria.cat
RRULE:FREQ=WEEKLY;UNTIL=20260725T000000;BYDAY=SA
EXDATE;TZID=Europe/Madrid:20260620T000000,20260627T000000,20260704T000000,
 20260718T000000
CATEGORIES:Días señalados,Ciencias y tecnologías,Todos los públicos
CREATED;VALUE=DATE-TIME:20260423T074951Z
DESCRIPTION:Actividad de formación para el eclipse solar total que se pod
 rá ver en Lleida el 12 de agosto\, con explicación del fenómeno\, cómo
  verlo en su plenitud y consejos de observación. La actividad consta de u
 na charla divulgativa a las 11h en la Sala Alfred Perenya y un taller prá
 ctico en la av. Blondel\, que se puede realizar antes (a las 10.30h) o des
 pués (a las 12h).
LAST-MODIFIED;VALUE=DATE-TIME:20260423T075149Z
URL:https://www.paeria.cat/es/actualidad/agenda/preparemos-el-eclipse
END:VEVENT
BEGIN:VTIMEZONE
TZID:Europe/Madrid
X-LIC-LOCATION:Europe/Madrid
BEGIN:DAYLIGHT
DTSTART;VALUE=DATE-TIME:20260329T030000
TZNAME:CEST
TZOFFSETFROM:+0100
TZOFFSETTO:+0200
END:DAYLIGHT
END:VTIMEZONE
END:VCALENDAR
