BEGIN:VCALENDAR
VERSION:2.0
PRODID:-//Plone.org//NONSGML plone.app.event//EN
X-WR-TIMEZONE:Europe/Madrid
BEGIN:VEVENT
SUMMARY:Presentación de la 1a cooperativa Audiovisual de Lleida- Octubre 
 Cinema
DTSTART;TZID=Europe/Madrid;VALUE=DATE-TIME:20240720T190000
DTSTAMP;VALUE=DATE-TIME:20260422T131501Z
UID:6b0cfaa327304533b0f1df87e23e6f1d@www.paeria.cat
CATEGORIES:Cine y vídeo,Audiovisuales,Cultura
CREATED;VALUE=DATE-TIME:20240716T154627Z
LAST-MODIFIED;VALUE=DATE-TIME:20251105T073614Z
URL:https://www.paeria.cat/es/actualidad/agenda/presentacion-de-la-1a-coop
 erativa-audiovisual-de-lleida-octubre-cinema
END:VEVENT
BEGIN:VTIMEZONE
TZID:Europe/Madrid
X-LIC-LOCATION:Europe/Madrid
BEGIN:DAYLIGHT
DTSTART;VALUE=DATE-TIME:20240331T030000
TZNAME:CEST
TZOFFSETFROM:+0100
TZOFFSETTO:+0200
END:DAYLIGHT
END:VTIMEZONE
END:VCALENDAR
