BEGIN:VCALENDAR
VERSION:2.0
PRODID:-//Plone.org//NONSGML plone.app.event//EN
X-WR-TIMEZONE:Europe/Madrid
BEGIN:VEVENT
SUMMARY:Presentación de la convocatoria L13.1. de Acciones en defensa de 
 los DH y de los DHD en Cooperación al Desarrollo
DTSTART;TZID=Europe/Madrid;VALUE=DATE-TIME:20260422T193000
DTEND;TZID=Europe/Madrid;VALUE=DATE-TIME:20260422T203000
DTSTAMP;VALUE=DATE-TIME:20260422T174503Z
UID:3d3dd67622d9471283acb43202f10c87@www.paeria.cat
CATEGORIES:Ciudadanía
CREATED;VALUE=DATE-TIME:20260421T073058Z
DESCRIPTION:La Concejalía de Cooperación presenta la convocatoria de sub
 venciones a las ONGD y entidades de la ciudad que deseen presentar proyect
 os para acciones para la defensa de los Derechos Humanos (DH) y de los Der
 echos Humanos de las Mujeres (DHD) en Cooperación al Desarrollo\, incluye
 ndo proyectos dentro de las líneas de Educación para la Transformación 
 Social (EpTS)\, Acción Humanitaria\, Migración y Refugio. \n- Miércoles
  22 de abril \n- A las 19:30 h \n- En la sala 2-3 del Centro Cívico del C
 entro Histórico (Pl. Ereta\, 3)
LAST-MODIFIED;VALUE=DATE-TIME:20260421T073103Z
URL:https://www.paeria.cat/es/actualidad/agenda/presentacion-de-la-convoca
 toria-l13-1-de-acciones-en-defensa-de-los-dh-y-de-los-dhd-en-cooperacion-a
 l-desarrollo
END:VEVENT
BEGIN:VTIMEZONE
TZID:Europe/Madrid
X-LIC-LOCATION:Europe/Madrid
BEGIN:DAYLIGHT
DTSTART;VALUE=DATE-TIME:20260329T030000
TZNAME:CEST
TZOFFSETFROM:+0100
TZOFFSETTO:+0200
END:DAYLIGHT
END:VTIMEZONE
END:VCALENDAR
