BEGIN:VCALENDAR
VERSION:2.0
PRODID:-//Plone.org//NONSGML plone.app.event//EN
X-WR-TIMEZONE:Europe/Madrid
BEGIN:VEVENT
SUMMARY:Presentación de la entrevista al molinero
DTSTART;TZID=Europe/Madrid;VALUE=DATE-TIME:20260418T110000
DTEND;TZID=Europe/Madrid;VALUE=DATE-TIME:20260418T120000
DTSTAMP;VALUE=DATE-TIME:20260423T225417Z
UID:d84d7db713a44b849472f4bf10cdcd4f@www.paeria.cat
CATEGORIES:Exposiciones,Itinerarios y visitas
CREATED;VALUE=DATE-TIME:20260305T085525Z
DESCRIPTION:Josep Figueras fue el último molinero del Molí de Sant Anast
 asi. En los años 90\, cunado el molino pasó a manos municipales\, se gra
 vó una entrevista para dejar testimonio de su trabajo y vida. El Museu de
  l'Aigua ha recuperado el documento y lo presentará en el marco de la Sem
 ana Cultural de la Bordeta. El vídeo se podrà ver permanentemente en la 
 exposición del molino\, que se puede visitar todos los domingos y festivo
 s de 11 a 14 h.
LAST-MODIFIED;VALUE=DATE-TIME:20260305T085626Z
URL:https://www.paeria.cat/es/actualidad/agenda/presentacion-de-la-entrevi
 sta-al-molinero
END:VEVENT
BEGIN:VTIMEZONE
TZID:Europe/Madrid
X-LIC-LOCATION:Europe/Madrid
BEGIN:DAYLIGHT
DTSTART;VALUE=DATE-TIME:20260329T030000
TZNAME:CEST
TZOFFSETFROM:+0100
TZOFFSETTO:+0200
END:DAYLIGHT
END:VTIMEZONE
END:VCALENDAR
