BEGIN:VCALENDAR
VERSION:2.0
PRODID:-//Plone.org//NONSGML plone.app.event//EN
X-WR-TIMEZONE:Europe/Madrid
BEGIN:VEVENT
SUMMARY:Presentación del libro- Cuinant les nostres emocions a foc lent
DTSTART;TZID=Europe/Madrid;VALUE=DATE-TIME:20240516T180000
DTSTAMP;VALUE=DATE-TIME:20260422T201253Z
UID:3f9cb76291974f4db57765e7fd9ffdef@www.paeria.cat
CATEGORIES:Libros y literatura,Cultura
CREATED;VALUE=DATE-TIME:20240509T060358Z
LAST-MODIFIED;VALUE=DATE-TIME:20240509T060404Z
URL:https://www.paeria.cat/es/actualidad/agenda/presentacion-del-libro-cui
 nant-les-nostres-emocions-a-foc-lent
END:VEVENT
BEGIN:VTIMEZONE
TZID:Europe/Madrid
X-LIC-LOCATION:Europe/Madrid
BEGIN:DAYLIGHT
DTSTART;VALUE=DATE-TIME:20240331T030000
TZNAME:CEST
TZOFFSETFROM:+0100
TZOFFSETTO:+0200
END:DAYLIGHT
END:VTIMEZONE
END:VCALENDAR
