BEGIN:VCALENDAR
VERSION:2.0
PRODID:-//Plone.org//NONSGML plone.app.event//EN
X-WR-TIMEZONE:Europe/Madrid
BEGIN:VEVENT
SUMMARY:Presentación del libro- Donde mejor se vende las estrellas
DTSTART;TZID=Europe/Madrid;VALUE=DATE-TIME:20240406T190000
DTSTAMP;VALUE=DATE-TIME:20260420T191239Z
UID:eb64e4e7107d4c98a201942a65925866@www.paeria.cat
CATEGORIES:Libros y literatura,Cultura
CREATED;VALUE=DATE-TIME:20240326T163636Z
LAST-MODIFIED;VALUE=DATE-TIME:20240326T163641Z
URL:https://www.paeria.cat/es/actualidad/agenda/presentacion-del-libro-don
 de-mejor-se-vende-las-estrellas
END:VEVENT
BEGIN:VTIMEZONE
TZID:Europe/Madrid
X-LIC-LOCATION:Europe/Madrid
BEGIN:DAYLIGHT
DTSTART;VALUE=DATE-TIME:20240331T030000
TZNAME:CEST
TZOFFSETFROM:+0100
TZOFFSETTO:+0200
END:DAYLIGHT
END:VTIMEZONE
END:VCALENDAR
