BEGIN:VCALENDAR
VERSION:2.0
PRODID:-//Plone.org//NONSGML plone.app.event//EN
X-WR-TIMEZONE:Europe/Madrid
BEGIN:VEVENT
SUMMARY:Presentación del libro- El estereotipo me mata
DTSTART;TZID=Europe/Madrid;VALUE=DATE-TIME:20240913T190000
DTSTAMP;VALUE=DATE-TIME:20260422T135621Z
UID:de15b74cee334487bb3ae9f1f6c7c20b@www.paeria.cat
CATEGORIES:Cultura,Libros y literatura
CREATED;VALUE=DATE-TIME:20240904T074751Z
LAST-MODIFIED;VALUE=DATE-TIME:20251105T073614Z
URL:https://www.paeria.cat/es/actualidad/agenda/presentacion-del-libro-el-
 estereotipo-me-mata
END:VEVENT
BEGIN:VTIMEZONE
TZID:Europe/Madrid
X-LIC-LOCATION:Europe/Madrid
BEGIN:DAYLIGHT
DTSTART;VALUE=DATE-TIME:20240331T030000
TZNAME:CEST
TZOFFSETFROM:+0100
TZOFFSETTO:+0200
END:DAYLIGHT
END:VTIMEZONE
END:VCALENDAR
