BEGIN:VCALENDAR
VERSION:2.0
PRODID:-//Plone.org//NONSGML plone.app.event//EN
X-WR-TIMEZONE:Europe/Madrid
BEGIN:VEVENT
SUMMARY:Presentación del libro- Et dono\, fementida\, un collaret com a p
 enyora
DTSTART;TZID=Europe/Madrid;VALUE=DATE-TIME:20240518T120000
DTSTAMP;VALUE=DATE-TIME:20260422T145153Z
UID:572f297e40b6482e894608513925d836@www.paeria.cat
CATEGORIES:Libros y literatura,Cultura
CREATED;VALUE=DATE-TIME:20240513T063459Z
LAST-MODIFIED;VALUE=DATE-TIME:20240513T063506Z
URL:https://www.paeria.cat/es/actualidad/agenda/presentacion-del-libro-et-
 dono-fementida-un-collaret-com-a-penyora
END:VEVENT
BEGIN:VTIMEZONE
TZID:Europe/Madrid
X-LIC-LOCATION:Europe/Madrid
BEGIN:DAYLIGHT
DTSTART;VALUE=DATE-TIME:20240331T030000
TZNAME:CEST
TZOFFSETFROM:+0100
TZOFFSETTO:+0200
END:DAYLIGHT
END:VTIMEZONE
END:VCALENDAR
