BEGIN:VCALENDAR
VERSION:2.0
PRODID:-//Plone.org//NONSGML plone.app.event//EN
X-WR-TIMEZONE:Europe/Madrid
BEGIN:VEVENT
SUMMARY:Presentación del libro Pinzellades del Segrià
DTSTART;TZID=Europe/Madrid;VALUE=DATE-TIME:20260422T190000
DTEND;TZID=Europe/Madrid;VALUE=DATE-TIME:20260422T203000
DTSTAMP;VALUE=DATE-TIME:20260424T103806Z
UID:0993a0e35208470a8816ec5e411b4677@www.paeria.cat
CATEGORIES:Cultura,Libros y literatura
CREATED;VALUE=DATE-TIME:20260306T123518Z
DESCRIPTION:Programa de Sant Jordi -- Presentación del libro Pinzellades 
 del Segrià de Ramon Farré con textos de Quintí Casals\, editado por Pag
 ès editors.
LAST-MODIFIED;VALUE=DATE-TIME:20260420T085235Z
URL:https://www.paeria.cat/es/actualidad/agenda/presentacion-del-libro-pin
 zellades-del-segria
END:VEVENT
BEGIN:VTIMEZONE
TZID:Europe/Madrid
X-LIC-LOCATION:Europe/Madrid
BEGIN:DAYLIGHT
DTSTART;VALUE=DATE-TIME:20260329T030000
TZNAME:CEST
TZOFFSETFROM:+0100
TZOFFSETTO:+0200
END:DAYLIGHT
END:VTIMEZONE
END:VCALENDAR
