BEGIN:VCALENDAR
VERSION:2.0
PRODID:-//Plone.org//NONSGML plone.app.event//EN
X-WR-TIMEZONE:Europe/Madrid
BEGIN:VEVENT
SUMMARY:Presentación del libro Sonidos para tu bienestar
DTSTART;TZID=Europe/Madrid;VALUE=DATE-TIME:20260427T190000
DTEND;TZID=Europe/Madrid;VALUE=DATE-TIME:20260427T203000
DTSTAMP;VALUE=DATE-TIME:20260424T004404Z
UID:47d758dbe8ff470db7c16e4957d054e2@www.paeria.cat
CATEGORIES:Cultura,Libros y literatura
CREATED;VALUE=DATE-TIME:20260306T123942Z
DESCRIPTION:Programa de Sant Jordi -- Presentación del libro Sonidos para
  tu bienestar (Ed. Plataforma)\, de Jordi A. Jauset (Doctor en Comunicaci
 ón\, ingeniero superior de Telecomunicación y profesor de piano)\, a car
 go del propio autor y de la médica Montse Pedrico Serradell.
LAST-MODIFIED;VALUE=DATE-TIME:20260415T085938Z
URL:https://www.paeria.cat/es/actualidad/agenda/presentacion-del-libro-son
 idos-para-tu-bienestar
END:VEVENT
BEGIN:VTIMEZONE
TZID:Europe/Madrid
X-LIC-LOCATION:Europe/Madrid
BEGIN:DAYLIGHT
DTSTART;VALUE=DATE-TIME:20260329T030000
TZNAME:CEST
TZOFFSETFROM:+0100
TZOFFSETTO:+0200
END:DAYLIGHT
END:VTIMEZONE
END:VCALENDAR
