BEGIN:VCALENDAR
VERSION:2.0
PRODID:-//Plone.org//NONSGML plone.app.event//EN
X-WR-TIMEZONE:Europe/Madrid
BEGIN:VEVENT
SUMMARY:Presentación del libro- Tenemos que hablar y otros cuentos sentim
 entales
DTSTART;TZID=Europe/Madrid;VALUE=DATE-TIME:20240928T120000
DTSTAMP;VALUE=DATE-TIME:20260422T150632Z
UID:69ab47c8ec854b2bba2298e95e9380d9@www.paeria.cat
CATEGORIES:Cultura,Libros y literatura
CREATED;VALUE=DATE-TIME:20240913T065450Z
LAST-MODIFIED;VALUE=DATE-TIME:20251105T073614Z
URL:https://www.paeria.cat/es/actualidad/agenda/presentacion-del-libro-ten
 emos-que-hablar-y-otros-cuentos-sentimentales
END:VEVENT
BEGIN:VTIMEZONE
TZID:Europe/Madrid
X-LIC-LOCATION:Europe/Madrid
BEGIN:DAYLIGHT
DTSTART;VALUE=DATE-TIME:20240331T030000
TZNAME:CEST
TZOFFSETFROM:+0100
TZOFFSETTO:+0200
END:DAYLIGHT
END:VTIMEZONE
END:VCALENDAR
