BEGIN:VCALENDAR
VERSION:2.0
PRODID:-//Plone.org//NONSGML plone.app.event//EN
X-WR-TIMEZONE:Europe/Madrid
BEGIN:VEVENT
SUMMARY:Presentación y recital del libro "Una sábana blanca"
DTSTART;TZID=Europe/Madrid;VALUE=DATE-TIME:20250315T180000
DTEND;TZID=Europe/Madrid;VALUE=DATE-TIME:20250315T193000
DTSTAMP;VALUE=DATE-TIME:20260420T200810Z
UID:ed4a930942a14cd5b87795bd5673507d@www.paeria.cat
CATEGORIES:Libros y literatura,Público
CREATED;VALUE=DATE-TIME:20250313T143541Z
DESCRIPTION:El acto consistirá en la presentación del libro Una sábana 
 blanca\, escrita por Xavier González-Costa. Se trata de un dietario poét
 ico frustrado sobre la guerra en Ucrania\, con prólogo de Manel Alías To
 rt. Durante el evento\, además de la intervención del autor\, se contar
 á con la participación de diversas personalidades del ámbito cultural\,
  así como con momentos musicales que darán un tono emotivo al recital. E
 l evento también tiene un componente solidario\, puesto que los derechos 
 de autor del libro serán dados a la Fundación del Convento de Santa Clar
 a\, dirigida por Sor Lucía Caram\, para apoyar la ayuda humanitaria en Uc
 rania desde el inicio del conflicto.
LAST-MODIFIED;VALUE=DATE-TIME:20250514T114738Z
URL:https://www.paeria.cat/es/actualidad/agenda/presentacion-y-recital-del
 -libro-una-sabana-blanca
END:VEVENT
BEGIN:VTIMEZONE
TZID:Europe/Madrid
X-LIC-LOCATION:Europe/Madrid
BEGIN:STANDARD
DTSTART;VALUE=DATE-TIME:20241027T020000
TZNAME:CET
TZOFFSETFROM:+0200
TZOFFSETTO:+0100
END:STANDARD
END:VTIMEZONE
END:VCALENDAR
