BEGIN:VCALENDAR
VERSION:2.0
PRODID:-//Plone.org//NONSGML plone.app.event//EN
X-WR-TIMEZONE:Europe/Madrid
BEGIN:VEVENT
SUMMARY:Presentación y tertulia sobre el libro- La muerte del otro
DTSTART;TZID=Europe/Madrid;VALUE=DATE-TIME:20241218T193000
DTSTAMP;VALUE=DATE-TIME:20260424T193139Z
UID:08cf4b19d18f4aa5a98bb0fb81f1aa22@www.paeria.cat
CATEGORIES:Cultura,Charlas y conferencias,Libros y literatura
CREATED;VALUE=DATE-TIME:20241128T144846Z
LAST-MODIFIED;VALUE=DATE-TIME:20251105T074138Z
URL:https://www.paeria.cat/es/actualidad/agenda/presentacion-y-tertulia-so
 bre-el-libro-la-muerte-del-otro
END:VEVENT
BEGIN:VTIMEZONE
TZID:Europe/Madrid
X-LIC-LOCATION:Europe/Madrid
BEGIN:STANDARD
DTSTART;VALUE=DATE-TIME:20241027T020000
TZNAME:CET
TZOFFSETFROM:+0200
TZOFFSETTO:+0100
END:STANDARD
END:VTIMEZONE
END:VCALENDAR
