BEGIN:VCALENDAR
VERSION:2.0
PRODID:-//Plone.org//NONSGML plone.app.event//EN
X-WR-TIMEZONE:Europe/Madrid
BEGIN:VEVENT
SUMMARY:Proyección del documental- Botticelli y Florencia: el nacimiento 
 de la belleza
DTSTART;TZID=Europe/Madrid;VALUE=DATE-TIME:20241007T190000
DTSTAMP;VALUE=DATE-TIME:20260422T200847Z
UID:39dc0a62bcbc4ae8a2fffe1e48d85643@www.paeria.cat
CATEGORIES:Audiovisuales,Cultura,Arte,Cine y vídeo
CREATED;VALUE=DATE-TIME:20240724T163228Z
LAST-MODIFIED;VALUE=DATE-TIME:20240910T074223Z
URL:https://www.paeria.cat/es/actualidad/agenda/proyeccion-del-documental-
 botticelli-y-florencia-el-nacimiento-de-la-belleza
END:VEVENT
BEGIN:VTIMEZONE
TZID:Europe/Madrid
X-LIC-LOCATION:Europe/Madrid
BEGIN:DAYLIGHT
DTSTART;VALUE=DATE-TIME:20240331T030000
TZNAME:CEST
TZOFFSETFROM:+0100
TZOFFSETTO:+0200
END:DAYLIGHT
END:VTIMEZONE
END:VCALENDAR
