BEGIN:VCALENDAR
VERSION:2.0
PRODID:-//Plone.org//NONSGML plone.app.event//EN
X-WR-TIMEZONE:Europe/Madrid
BEGIN:VEVENT
SUMMARY:Proyección del documental+coloquio- 7291
DTSTART;TZID=Europe/Madrid;VALUE=DATE-TIME:20241129T193000
DTSTAMP;VALUE=DATE-TIME:20260419T201327Z
UID:8db1caf1c5404838880cddeeafb19bf8@www.paeria.cat
CATEGORIES:Audiovisuales,Cine y vídeo,Cultura
CREATED;VALUE=DATE-TIME:20241125T062526Z
LAST-MODIFIED;VALUE=DATE-TIME:20241125T062535Z
URL:https://www.paeria.cat/es/actualidad/agenda/proyeccion-del-documental-
 coloquio-7291
END:VEVENT
BEGIN:VTIMEZONE
TZID:Europe/Madrid
X-LIC-LOCATION:Europe/Madrid
BEGIN:STANDARD
DTSTART;VALUE=DATE-TIME:20241027T020000
TZNAME:CET
TZOFFSETFROM:+0200
TZOFFSETTO:+0100
END:STANDARD
END:VTIMEZONE
END:VCALENDAR
