BEGIN:VCALENDAR
VERSION:2.0
PRODID:-//Plone.org//NONSGML plone.app.event//EN
X-WR-TIMEZONE:Europe/Madrid
BEGIN:VEVENT
SUMMARY:Proyección del documental y coloquio- Saber Sumud Palestina
DTSTART;TZID=Europe/Madrid;VALUE=DATE-TIME:20240418T193000
DTSTAMP;VALUE=DATE-TIME:20260420T010313Z
UID:7fa453a58c284f15ad9b2c957fdb95b1@www.paeria.cat
CATEGORIES:Audiovisuales,Cultura
CREATED;VALUE=DATE-TIME:20240409T170938Z
LAST-MODIFIED;VALUE=DATE-TIME:20240409T170945Z
URL:https://www.paeria.cat/es/actualidad/agenda/proyeccion-del-documental-
 y-coloquio-saber-sumud-palestina
END:VEVENT
BEGIN:VTIMEZONE
TZID:Europe/Madrid
X-LIC-LOCATION:Europe/Madrid
BEGIN:DAYLIGHT
DTSTART;VALUE=DATE-TIME:20240331T030000
TZNAME:CEST
TZOFFSETFROM:+0100
TZOFFSETTO:+0200
END:DAYLIGHT
END:VTIMEZONE
END:VCALENDAR
