BEGIN:VCALENDAR
VERSION:2.0
PRODID:-//Plone.org//NONSGML plone.app.event//EN
X-WR-TIMEZONE:Europe/Madrid
BEGIN:VEVENT
SUMMARY:Proyección del largometraje "Alegria" - Cinemón 2023
DTSTART;TZID=Europe/Madrid;VALUE=DATE-TIME:20230707T223000
DTEND;TZID=Europe/Madrid;VALUE=DATE-TIME:20230708T000500
DTSTAMP;VALUE=DATE-TIME:20260423T020716Z
UID:e15839c27c7c48c6b6350ed244ada567@www.paeria.cat
CATEGORIES:Mujer,Todos los públicos,Cine y vídeo
CREATED;VALUE=DATE-TIME:20230628T103733Z
DESCRIPTION:"Alegría" (96')\, 2021\, España. Dirigida por: Violeta Salam
 a. Alegría vive de espaldas a sus raíces judías. Tras mudarse a Melilla
 \, e instalarse en la casa familiar\, no está siendo tarea fácil. Su fam
 ilia se traslada a su casa para organizar la boda de su sobrina. Unos prep
 arativos que harán florecer tanto sus diferencias como todo lo que las un
 e. Lugar\, fecha y hora: Plaza San Francisco. Viernes 7 de julio\, a las 2
 2:30h para más información cooperacio.paeria.cat/cinemon
LAST-MODIFIED;VALUE=DATE-TIME:20250514T114703Z
URL:https://www.paeria.cat/es/actualidad/agenda/proyeccion-del-largometraj
 e-alegria-cinemon-2023
END:VEVENT
BEGIN:VTIMEZONE
TZID:Europe/Madrid
X-LIC-LOCATION:Europe/Madrid
BEGIN:DAYLIGHT
DTSTART;VALUE=DATE-TIME:20230326T030000
TZNAME:CEST
TZOFFSETFROM:+0100
TZOFFSETTO:+0200
END:DAYLIGHT
END:VTIMEZONE
END:VCALENDAR
