BEGIN:VCALENDAR
VERSION:2.0
PRODID:-//Plone.org//NONSGML plone.app.event//EN
X-WR-TIMEZONE:Europe/Madrid
BEGIN:VEVENT
SUMMARY:Proyección "Gabi\, dels 8 als 13 anys" en conmemoración al Día 
 de los Derechos Humanos
DTSTART;TZID=Europe/Madrid;VALUE=DATE-TIME:20221216T183000
DTEND;TZID=Europe/Madrid;VALUE=DATE-TIME:20221216T194500
DTSTAMP;VALUE=DATE-TIME:20260422T170303Z
UID:296b27c148af46c1bd9a384ea9be7f63@www.paeria.cat
CATEGORIES:Público,Audiovisuales,Ciudadanía,Días señalados,Cine y víd
 eo,Mujer,Jóvenes,Todos los públicos,Familiar
CREATED;VALUE=DATE-TIME:20221213T110742Z
DESCRIPTION:Gabi sólo quiere ser Gabi. Un deseo que parece sencillo pero 
 que no lo es. Gabi se siente distinto. Aunque en sus ocho años de vida\, 
 decir las cosas claras nunca le ha supuesto ningún problema. Pero cuando 
 la familia se traslada a un pequeño pueblo y llega a la pubertad\, las co
 sas empiezan a cambiar. \n\nVemos el crecimiento de Gabi en pantalla a lo 
 largo de cinco años\, poniendo en entredicho las ideas preconcebidas sobr
 e el género\, la norma y el derecho a ser quien quiera ser.
LAST-MODIFIED;VALUE=DATE-TIME:20250514T115928Z
URL:https://www.paeria.cat/es/actualidad/agenda/proyeccion-gabi-dels-8-als
 -13-anys-en-conmemoracion-al-dia-de-los-derechos-humanos
END:VEVENT
BEGIN:VTIMEZONE
TZID:Europe/Madrid
X-LIC-LOCATION:Europe/Madrid
BEGIN:STANDARD
DTSTART;VALUE=DATE-TIME:20221030T020000
TZNAME:CET
TZOFFSETFROM:+0200
TZOFFSETTO:+0100
END:STANDARD
END:VTIMEZONE
END:VCALENDAR
