BEGIN:VCALENDAR
VERSION:2.0
PRODID:-//Plone.org//NONSGML plone.app.event//EN
X-WR-TIMEZONE:Europe/Madrid
BEGIN:VEVENT
SUMMARY:Proyección y coloquio- El monje y el rifle
DTSTART;TZID=Europe/Madrid;VALUE=DATE-TIME:20240802T200000
DTSTAMP;VALUE=DATE-TIME:20260423T051918Z
UID:a79bb591d132411b975fadaddeb4b503@www.paeria.cat
CATEGORIES:Audiovisuales,Cine y vídeo,Cultura
CREATED;VALUE=DATE-TIME:20240730T144800Z
LAST-MODIFIED;VALUE=DATE-TIME:20240730T144806Z
URL:https://www.paeria.cat/es/actualidad/agenda/proyeccion-y-coloquio-el-m
 onje-y-el-rifle
END:VEVENT
BEGIN:VTIMEZONE
TZID:Europe/Madrid
X-LIC-LOCATION:Europe/Madrid
BEGIN:DAYLIGHT
DTSTART;VALUE=DATE-TIME:20240331T030000
TZNAME:CEST
TZOFFSETFROM:+0100
TZOFFSETTO:+0200
END:DAYLIGHT
END:VTIMEZONE
END:VCALENDAR
