BEGIN:VCALENDAR
VERSION:2.0
PRODID:-//Plone.org//NONSGML plone.app.event//EN
X-WR-TIMEZONE:Europe/Madrid
BEGIN:VEVENT
SUMMARY:Punto de observación de la Biodiversidad: Los pájaros de Lleida 
 alrededor del río
DTSTART;TZID=Europe/Madrid;VALUE=DATE-TIME:20240316T093000
DTEND;TZID=Europe/Madrid;VALUE=DATE-TIME:20240316T123000
DTSTAMP;VALUE=DATE-TIME:20260423T002418Z
UID:3595ea8807ff4e8ea7dd37c483bf2dd6@www.paeria.cat
CREATED;VALUE=DATE-TIME:20240305T111255Z
DESCRIPTION:Ecoactividades 2024
LAST-MODIFIED;VALUE=DATE-TIME:20240311T102534Z
URL:https://www.paeria.cat/es/actualidad/agenda/punto-de-observacion-de-la
 -biodiversidad-los-pajaros-de-lleida-alrededor-del-rio
END:VEVENT
BEGIN:VTIMEZONE
TZID:Europe/Madrid
X-LIC-LOCATION:Europe/Madrid
BEGIN:STANDARD
DTSTART;VALUE=DATE-TIME:20231029T020000
TZNAME:CET
TZOFFSETFROM:+0200
TZOFFSETTO:+0100
END:STANDARD
END:VTIMEZONE
END:VCALENDAR
