BEGIN:VCALENDAR
VERSION:2.0
PRODID:-//Plone.org//NONSGML plone.app.event//EN
X-WR-TIMEZONE:Europe/Madrid
BEGIN:VEVENT
SUMMARY:Recalificación (Re-skilling) y mejora profesional (Up-skilling): 
 ¿qué es y por qué se habla tanto?
DTSTART;TZID=Europe/Madrid;VALUE=DATE-TIME:20260226T120000
DTEND;TZID=Europe/Madrid;VALUE=DATE-TIME:20260226T130000
DTSTAMP;VALUE=DATE-TIME:20260423T060242Z
UID:fc6a2cc2e0aa428d8173ebaa2849cbf6@www.paeria.cat
CATEGORIES:Charlas y conferencias
CREATED;VALUE=DATE-TIME:20260224T152748Z
DESCRIPTION:Conferencia dedicada a analizar la importancia de la recualifi
 cación (re-skilling) y la mejora de competencias (up-skilling) en el cont
 exto actual del mercado de trabajo. Durante la sesión se presentarán las
  ocupaciones y competencias emergentes en el territorio\, se reflexionará
  sobre por qué es cada vez más necesario actualizar los conocimientos pr
 ofesionales y se dará a conocer el proyecto PROLleida\, orientado a impul
 sar la capacitación profesional en sectores estratégicos como el agroali
 mentario\, la industria 4.0\, la logística\, la energía y el medio ambie
 nte.
LAST-MODIFIED;VALUE=DATE-TIME:20260224T152758Z
URL:https://www.paeria.cat/es/actualidad/agenda/recalificacion-re-skilling
 -y-mejora-profesional-up-skilling-que-es-y-por-que-se-habla-tanto
END:VEVENT
BEGIN:VTIMEZONE
TZID:Europe/Madrid
X-LIC-LOCATION:Europe/Madrid
BEGIN:STANDARD
DTSTART;VALUE=DATE-TIME:20251026T020000
TZNAME:CET
TZOFFSETFROM:+0200
TZOFFSETTO:+0100
END:STANDARD
END:VTIMEZONE
END:VCALENDAR
