BEGIN:VCALENDAR
VERSION:2.0
PRODID:-//Plone.org//NONSGML plone.app.event//EN
X-WR-TIMEZONE:Europe/Madrid
BEGIN:VEVENT
SUMMARY:REPRESENTACIÓN DE LA OBRA DE TEATRO: ¡RUHE!
DTSTART;VALUE=DATE:20240304
DTEND;VALUE=DATE:20240401
DTSTAMP;VALUE=DATE-TIME:20260420T040237Z
UID:d81cafa78f364d048a0ef6e41858666a@www.paeria.cat
CATEGORIES:Teatro
CREATED;VALUE=DATE-TIME:20240304T110205Z
DESCRIPTION:Proyecto Buchenwald-Mauthausen 2024 \nMarzo de 2024 - Institut
 os del Grupo de trabajo DEMD.
LAST-MODIFIED;VALUE=DATE-TIME:20240304T110257Z
URL:https://www.paeria.cat/es/actualidad/agenda/representacion-de-la-obra-
 de-teatro-ruhe
END:VEVENT
END:VCALENDAR
