BEGIN:VCALENDAR
VERSION:2.0
PRODID:-//Plone.org//NONSGML plone.app.event//EN
X-WR-TIMEZONE:Europe/Madrid
BEGIN:VEVENT
SUMMARY:REQUIEM NOCTURNO. Pere Faura y Mercat de les Flors
DTSTART;TZID=Europe/Madrid;VALUE=DATE-TIME:20230416T190000
DTEND;TZID=Europe/Madrid;VALUE=DATE-TIME:20230416T203000
DTSTAMP;VALUE=DATE-TIME:20260422T170637Z
UID:b28d1e8e6e8d419081b74d39e90e84ca@www.paeria.cat
CREATED;VALUE=DATE-TIME:20230111T094337Z
LAST-MODIFIED;VALUE=DATE-TIME:20230111T094822Z
URL:https://www.paeria.cat/es/actualidad/agenda/requiem-nocturno-pere-faur
 a-y-mercat-de-les-flors
END:VEVENT
BEGIN:VTIMEZONE
TZID:Europe/Madrid
X-LIC-LOCATION:Europe/Madrid
BEGIN:DAYLIGHT
DTSTART;VALUE=DATE-TIME:20230326T030000
TZNAME:CEST
TZOFFSETFROM:+0100
TZOFFSETTO:+0200
END:DAYLIGHT
END:VTIMEZONE
END:VCALENDAR
