BEGIN:VCALENDAR
VERSION:2.0
PRODID:-//Plone.org//NONSGML plone.app.event//EN
X-WR-TIMEZONE:Europe/Madrid
BEGIN:VEVENT
SUMMARY:Roda de contes: La maleta de contes\, con Butai Produccions
DTSTART;TZID=Europe/Madrid;VALUE=DATE-TIME:20260129T173000
DTEND;TZID=Europe/Madrid;VALUE=DATE-TIME:20260129T183000
DTSTAMP;VALUE=DATE-TIME:20260423T020836Z
UID:a4e16133a2e740378b3ef1195a5ab0d8@www.paeria.cat
CREATED;VALUE=DATE-TIME:20251210T111712Z
DESCRIPTION:Una maleta antigua\, tan antigua como los cuentos que guarda e
 n su interior. Cargada de objetos y algún títere que ayudan a contar las
  diferentes historias.
LAST-MODIFIED;VALUE=DATE-TIME:20251210T111820Z
URL:https://www.paeria.cat/es/actualidad/agenda/roda-de-contes-la-maleta-d
 e-contes-con-butai-produccions
END:VEVENT
BEGIN:VTIMEZONE
TZID:Europe/Madrid
X-LIC-LOCATION:Europe/Madrid
BEGIN:STANDARD
DTSTART;VALUE=DATE-TIME:20251026T020000
TZNAME:CET
TZOFFSETFROM:+0200
TZOFFSETTO:+0100
END:STANDARD
END:VTIMEZONE
END:VCALENDAR
