BEGIN:VCALENDAR
VERSION:2.0
PRODID:-//Plone.org//NONSGML plone.app.event//EN
X-WR-TIMEZONE:Europe/Madrid
BEGIN:VEVENT
SUMMARY:Romeo y Julieta y 5ª Sinfonía de Beethoven. Joven Orquesta de Po
 nent
DTSTART;TZID=Europe/Madrid;VALUE=DATE-TIME:20250427T190000
DTEND;TZID=Europe/Madrid;VALUE=DATE-TIME:20250427T200000
DTSTAMP;VALUE=DATE-TIME:20260423T020909Z
UID:b3bd259815c245159fc0f59ef7b81bf1@www.paeria.cat
CATEGORIES:Cultura,Música,Público
CREATED;VALUE=DATE-TIME:20250121T090057Z
LAST-MODIFIED;VALUE=DATE-TIME:20250124T095011Z
URL:https://www.paeria.cat/es/actualidad/agenda/romeo-y-julieta-y-5a-sinfo
 nia-de-beethoven-joven-orquesta-de-ponent
END:VEVENT
BEGIN:VTIMEZONE
TZID:Europe/Madrid
X-LIC-LOCATION:Europe/Madrid
BEGIN:DAYLIGHT
DTSTART;VALUE=DATE-TIME:20250330T030000
TZNAME:CEST
TZOFFSETFROM:+0100
TZOFFSETTO:+0200
END:DAYLIGHT
END:VTIMEZONE
END:VCALENDAR
