BEGIN:VCALENDAR
VERSION:2.0
PRODID:-//Plone.org//NONSGML plone.app.event//EN
X-WR-TIMEZONE:Europe/Madrid
BEGIN:VEVENT
SUMMARY:RUTA DE CANCIONES ENTORNO DE UNA GUERRA-PROYECTO INCORDIOS DE MANR
 ESA
DTSTART;TZID=Europe/Madrid;VALUE=DATE-TIME:20241020T103000
DTSTAMP;VALUE=DATE-TIME:20260422T170621Z
UID:336ae89a3d1848769f59822bedcba312@www.paeria.cat
CATEGORIES:Itinerarios y visitas
CREATED;VALUE=DATE-TIME:20241014T090617Z
DESCRIPTION:Itinerario para la Recuperación de la Memoria Democrática
LAST-MODIFIED;VALUE=DATE-TIME:20241014T090720Z
URL:https://www.paeria.cat/es/actualidad/agenda/ruta-de-canciones-entorno-
 de-una-guerra-proyecto-incordios-de-manresa
END:VEVENT
BEGIN:VTIMEZONE
TZID:Europe/Madrid
X-LIC-LOCATION:Europe/Madrid
BEGIN:DAYLIGHT
DTSTART;VALUE=DATE-TIME:20240331T030000
TZNAME:CEST
TZOFFSETFROM:+0100
TZOFFSETTO:+0200
END:DAYLIGHT
END:VTIMEZONE
END:VCALENDAR
