BEGIN:VCALENDAR
VERSION:2.0
PRODID:-//Plone.org//NONSGML plone.app.event//EN
X-WR-TIMEZONE:Europe/Madrid
BEGIN:VEVENT
SUMMARY:Ruta por el molino de Sant Anastasi  y la acequia de Fontanet
DTSTART;TZID=Europe/Madrid;VALUE=DATE-TIME:20231228T110000
DTEND;TZID=Europe/Madrid;VALUE=DATE-TIME:20231228T130000
DTSTAMP;VALUE=DATE-TIME:20260422T134949Z
UID:981a976804514fd99c71b3f8d36c53f7@www.paeria.cat
CATEGORIES:Itinerarios y visitas,Todos los públicos
CREATED;VALUE=DATE-TIME:20231128T081046Z
DESCRIPTION:Recorrido guiado por el antiguo molino harinero de la Bordeta\
 , donde veremos parte de la maquinaria y repasaremos su historia\, y por u
 n tramo de la acequia de Fontanet\, que conserva partes de origen medieval
 .
LAST-MODIFIED;VALUE=DATE-TIME:20231227T072410Z
URL:https://www.paeria.cat/es/actualidad/agenda/ruta-por-el-molino-de-sant
 -anastasi-y-la-acequia-de-fontanet
END:VEVENT
BEGIN:VTIMEZONE
TZID:Europe/Madrid
X-LIC-LOCATION:Europe/Madrid
BEGIN:STANDARD
DTSTART;VALUE=DATE-TIME:20231029T020000
TZNAME:CET
TZOFFSETFROM:+0200
TZOFFSETTO:+0100
END:STANDARD
END:VTIMEZONE
END:VCALENDAR
