BEGIN:VCALENDAR
VERSION:2.0
PRODID:-//Plone.org//NONSGML plone.app.event//EN
X-WR-TIMEZONE:Europe/Madrid
BEGIN:VEVENT
SUMMARY:Sandía\, proyecto en apoyo con el pueblo palestino
DTSTART;TZID=Europe/Madrid;VALUE=DATE-TIME:20251129T110000
DTEND;TZID=Europe/Madrid;VALUE=DATE-TIME:20260109T110000
DTSTAMP;VALUE=DATE-TIME:20260422T114013Z
UID:7d9f4b2736724784852e61b5a1926f16@www.paeria.cat
CATEGORIES:Ciudadanía,Arte,Días señalados,Público,Todos los públicos
CREATED;VALUE=DATE-TIME:20251128T101345Z
DESCRIPTION:El próximo sábado 29 de noviembre\, en apoyo al pueblo pales
 tino\, se presenta la Sandía. Una obra artística y reivindicativa\, de g
 ran tamaño\, símbolo de la bandera palestina. La obra ha sido hecha por 
 las tejedoras de La Guerrilla de Gilda y con el apoyo del Ayuntamiento de 
 Lleida. El 29 de noviembre a las 11 h en la esquina entre av. Blondel y C.
  Vila de Foix\, se presentará la Sandía. Que permanecerá alumbrada en a
 poyo al pueblo palestino de 29 de noviembre de 2025 a 9 de enero de 2026.
LAST-MODIFIED;VALUE=DATE-TIME:20251128T101359Z
URL:https://www.paeria.cat/es/actualidad/agenda/sandia-proyecto-en-apoyo-c
 on-el-pueblo-palestino
END:VEVENT
BEGIN:VTIMEZONE
TZID:Europe/Madrid
X-LIC-LOCATION:Europe/Madrid
BEGIN:STANDARD
DTSTART;VALUE=DATE-TIME:20251026T020000
TZNAME:CET
TZOFFSETFROM:+0200
TZOFFSETTO:+0100
END:STANDARD
END:VTIMEZONE
END:VCALENDAR
