BEGIN:VCALENDAR
VERSION:2.0
PRODID:-//Plone.org//NONSGML plone.app.event//EN
X-WR-TIMEZONE:Europe/Madrid
BEGIN:VEVENT
SUMMARY:SANT JORDI 2024: Recital de poesía
DTSTART;TZID=Europe/Madrid;VALUE=DATE-TIME:20240422T200000
DTEND;TZID=Europe/Madrid;VALUE=DATE-TIME:20240422T210000
DTSTAMP;VALUE=DATE-TIME:20260422T113752Z
UID:6e8bb754892b44c8bd1e8d42d1260434@www.paeria.cat
CATEGORIES:Libros y literatura,Sant Jordi
CREATED;VALUE=DATE-TIME:20240411T101801Z
LAST-MODIFIED;VALUE=DATE-TIME:20240422T161158Z
URL:https://www.paeria.cat/es/actualidad/agenda/sant-jordi-2024-recital-de
 -poesia
END:VEVENT
BEGIN:VTIMEZONE
TZID:Europe/Madrid
X-LIC-LOCATION:Europe/Madrid
BEGIN:DAYLIGHT
DTSTART;VALUE=DATE-TIME:20240331T030000
TZNAME:CEST
TZOFFSETFROM:+0100
TZOFFSETTO:+0200
END:DAYLIGHT
END:VTIMEZONE
END:VCALENDAR
