BEGIN:VCALENDAR
VERSION:2.0
PRODID:-//Plone.org//NONSGML plone.app.event//EN
X-WR-TIMEZONE:Europe/Madrid
BEGIN:VEVENT
SUMMARY:Schattenwerfer (Les ombres de l’ombra). TANGRAM Kollektiv (Alema
 nya)
DTSTART;TZID=Europe/Madrid;VALUE=DATE-TIME:20251116T120000
DTEND;TZID=Europe/Madrid;VALUE=DATE-TIME:20251116T123500
DTSTAMP;VALUE=DATE-TIME:20260423T103044Z
UID:a65cb891f2a8434a98ae5caf6d0fbaa5@www.paeria.cat
CREATED;VALUE=DATE-TIME:20250709T113644Z
DESCRIPTION:elPetit - Festival internacional de artes para la primera infa
 ncia.
LAST-MODIFIED;VALUE=DATE-TIME:20251007T133905Z
URL:https://www.paeria.cat/es/actualidad/agenda/schattenwerfer-les-ombres-
 de-l2019ombra-tangram-kollektiv-alemanya
END:VEVENT
BEGIN:VTIMEZONE
TZID:Europe/Madrid
X-LIC-LOCATION:Europe/Madrid
BEGIN:STANDARD
DTSTART;VALUE=DATE-TIME:20251026T020000
TZNAME:CET
TZOFFSETFROM:+0200
TZOFFSETTO:+0100
END:STANDARD
END:VTIMEZONE
END:VCALENDAR
